BEGIN:VCALENDAR
VERSION:2.0
PRODID:icalendar-ruby
CALSCALE:GREGORIAN
METHOD:PUBLISH
BEGIN:VEVENT
DTSTAMP:20260422T003816Z
UID:10-558715@sanmarcoslutheran.org
DTSTART:20261016T020000Z
DTEND:20261016T030000Z
CLASS:PUBLIC
CREATED:20260421T151833
DESCRIPTION:Rehearsals are held on Thursday evenings at 7:00 pm. We invite 
 you to be part of this joyful ministry of music\, fellowship\, and service
 .\nFor more information\, please contact Max Chodos at (760) 521-5793.
LAST-MODIFIED:20260421T151833
LOCATION:Sanctuary
SUMMARY:Choir Rehearsal
URL;VALUE=URI:https://www.sanmarcoslutheran.org/events/choir-rehearsal/2026
 -10-15
ATTACH;FILENAME=DSC04350.jpg;FMTTYPE=image/jpeg:https://dq5pwpg1q8ru0.cloud
 front.net/2024/07/03/18/12/52/7a4bdb52-fed2-427a-9093-c69c8b0d2e5a/DSC0435
 0.jpg
END:VEVENT
END:VCALENDAR
