BEGIN:VCALENDAR
VERSION:2.0
PRODID:icalendar-ruby
CALSCALE:GREGORIAN
METHOD:PUBLISH
BEGIN:VEVENT
DTSTAMP:20260421T222709Z
UID:88-558836@sanmarcoslutheran.org
DTSTART;VALUE=DATE:20260621
DTEND;VALUE=DATE:20260621
CLASS:PUBLIC
CREATED:20260421T151833
DESCRIPTION:Here at SMLC we gather for worship every Sunday at 10AM in pers
 on and online. As we continue to livestream our worship services\, we want
  to hear from you about how we can better improve the online worship exper
 ience. \nLoading…
LAST-MODIFIED:20260421T151833
LOCATION:
SUMMARY:Online Worship Survey
URL;VALUE=URI:https://www.sanmarcoslutheran.org/events/online-worship-surve
 y/2026-06-21
ATTACH;FILENAME=DSC04557.jpg;FMTTYPE=image/jpeg:https://dq5pwpg1q8ru0.cloud
 front.net/2026/03/04/20/11/25/18e5a71d-589d-4164-85d1-077c1f189a8d/DSC0455
 7.jpg
END:VEVENT
END:VCALENDAR
